BEGIN:VCALENDAR
VERSION:2.0
PRODID:-//Sidwell&#039;s | Authentic Imported South African Goods - ECPv6.15.17//NONSGML v1.0//EN
CALSCALE:GREGORIAN
METHOD:PUBLISH
X-ORIGINAL-URL:https://sidwells.net
X-WR-CALDESC:Events for Sidwell&#039;s | Authentic Imported South African Goods
REFRESH-INTERVAL;VALUE=DURATION:PT1H
X-Robots-Tag:noindex
X-PUBLISHED-TTL:PT1H
BEGIN:VTIMEZONE
TZID:Europe/London
BEGIN:DAYLIGHT
TZOFFSETFROM:+0000
TZOFFSETTO:+0100
TZNAME:BST
DTSTART:20230326T010000
END:DAYLIGHT
BEGIN:STANDARD
TZOFFSETFROM:+0100
TZOFFSETTO:+0000
TZNAME:GMT
DTSTART:20231029T010000
END:STANDARD
BEGIN:DAYLIGHT
TZOFFSETFROM:+0000
TZOFFSETTO:+0100
TZNAME:BST
DTSTART:20240331T010000
END:DAYLIGHT
BEGIN:STANDARD
TZOFFSETFROM:+0100
TZOFFSETTO:+0000
TZNAME:GMT
DTSTART:20241027T010000
END:STANDARD
BEGIN:DAYLIGHT
TZOFFSETFROM:+0000
TZOFFSETTO:+0100
TZNAME:BST
DTSTART:20250330T010000
END:DAYLIGHT
BEGIN:STANDARD
TZOFFSETFROM:+0100
TZOFFSETTO:+0000
TZNAME:GMT
DTSTART:20251026T010000
END:STANDARD
END:VTIMEZONE
BEGIN:VEVENT
DTSTART;TZID=Europe/London:20240803T100000
DTEND;TZID=Europe/London:20240803T160000
DTSTAMP:20260421T204907
CREATED:20240801T203719Z
LAST-MODIFIED:20240801T203719Z
UID:6008-1722679200-1722700800@sidwells.net
SUMMARY:Godalming Plant-based Artisan Market
DESCRIPTION:Join us this Saturday\, 3rd August 2024\, at the Godalming Plant-based Artisan Market from 10am to 4pm for a day of delightful discoveries!  \nWe will be proudly showcasing our exquisite range of bespoke South African beverages\, alongside an array of other wonderful local businesses. Immerse yourself in the vibrant atmosphere\, savor unique flavors\, and enjoy a day filled with fun and community spirit.  \nDon’t miss out!
URL:https://sidwells.net/events/godalming-plant-based-artisan-market/
CATEGORIES:Markets
END:VEVENT
BEGIN:VEVENT
DTSTART;VALUE=DATE:20240801
DTEND;VALUE=DATE:20241118
DTSTAMP:20260421T204907
CREATED:20240801T132444Z
LAST-MODIFIED:20240828T024743Z
UID:5984-1722470400-1731887999@sidwells.net
SUMMARY:The Gin To My Tonic Awards 2024
DESCRIPTION:  \n \nWe entered the Six Dogs Gin Collection in The Gin To My Tonic Awards 2024! \nWe are finalists in 4 categories\n\nPlease Support Our Incredible South African Craft Gin Experts\, Vote For Us By Clicking On The Icons Below\n  \nSix Dogs Karoo Gin   \nSix Dogs Honey & Lime Gin \n      Six Dogs Blue Gin \n   Six Dogs Pinotage Stained \n 
URL:https://sidwells.net/events/the-gin-to-my-tonic-awards-2024/
CATEGORIES:Awards
ATTACH;FMTTYPE=image/webp:https://sidwells.net/wp-content/uploads/2024/08/TGTMT-logo@2x.webp
END:VEVENT
END:VCALENDAR